BEGIN:VCALENDAR
VERSION:2.0
PRODID:-//Magazine Training International - ECPv6.15.20//NONSGML v1.0//EN
CALSCALE:GREGORIAN
METHOD:PUBLISH
X-WR-CALNAME:Magazine Training International
X-ORIGINAL-URL:https://magazinetraining.com
X-WR-CALDESC:Events for Magazine Training International
REFRESH-INTERVAL;VALUE=DURATION:PT1H
X-Robots-Tag:noindex
X-PUBLISHED-TTL:PT1H
BEGIN:VTIMEZONE
TZID:America/New_York
BEGIN:DAYLIGHT
TZOFFSETFROM:-0500
TZOFFSETTO:-0400
TZNAME:EDT
DTSTART:20240310T070000
END:DAYLIGHT
BEGIN:STANDARD
TZOFFSETFROM:-0400
TZOFFSETTO:-0500
TZNAME:EST
DTSTART:20241103T060000
END:STANDARD
BEGIN:DAYLIGHT
TZOFFSETFROM:-0500
TZOFFSETTO:-0400
TZNAME:EDT
DTSTART:20250309T070000
END:DAYLIGHT
BEGIN:STANDARD
TZOFFSETFROM:-0400
TZOFFSETTO:-0500
TZNAME:EST
DTSTART:20251102T060000
END:STANDARD
BEGIN:DAYLIGHT
TZOFFSETFROM:-0500
TZOFFSETTO:-0400
TZNAME:EDT
DTSTART:20260308T070000
END:DAYLIGHT
BEGIN:STANDARD
TZOFFSETFROM:-0400
TZOFFSETTO:-0500
TZNAME:EST
DTSTART:20261101T060000
END:STANDARD
END:VTIMEZONE
BEGIN:VEVENT
DTSTART;TZID=America/New_York:20250123T130000
DTEND;TZID=America/New_York:20250123T140000
DTSTAMP:20260419T161035
CREATED:20241105T015402Z
LAST-MODIFIED:20241106T174458Z
UID:10000080-1737637200-1737640800@magazinetraining.com
SUMMARY:Christian communications across cultures
DESCRIPTION:You know what you’re saying. Do you know what your audience is hearing? Whether communicating with donors across the world\, or diaspora across the street\, it is important to know that your message is clear. \n\n\n\nIn this free online workshop\, Geoff Peters\, global marketing director of Jesus Film Project\, will discuss what you need to consider when communicating across cultures. \n\n\n\nRegister now \n\n\n\nDon’t miss it! Check the system requirements now. \n\n\n On-demand workshops: Did you miss a live workshop? Visit our resource center and watch it now!  \nContributing sponsor: \n \n\n\n\nPhoto by airfocus on Unsplash
URL:https://magazinetraining.com/event/christian-communication-across-cultures/
CATEGORIES:Live workshops
ATTACH;FMTTYPE=image/png:https://magazinetraining.com/wp-content/uploads/2024/11/Webinars.png
END:VEVENT
END:VCALENDAR