BEGIN:VCALENDAR
VERSION:2.0
PRODID:-//Magazine Training International - ECPv6.15.20//NONSGML v1.0//EN
CALSCALE:GREGORIAN
METHOD:PUBLISH
X-ORIGINAL-URL:https://magazinetraining.com
X-WR-CALDESC:Events for Magazine Training International
REFRESH-INTERVAL;VALUE=DURATION:PT1H
X-Robots-Tag:noindex
X-PUBLISHED-TTL:PT1H
BEGIN:VTIMEZONE
TZID:America/New_York
BEGIN:DAYLIGHT
TZOFFSETFROM:-0500
TZOFFSETTO:-0400
TZNAME:EDT
DTSTART:20230312T070000
END:DAYLIGHT
BEGIN:STANDARD
TZOFFSETFROM:-0400
TZOFFSETTO:-0500
TZNAME:EST
DTSTART:20231105T060000
END:STANDARD
BEGIN:DAYLIGHT
TZOFFSETFROM:-0500
TZOFFSETTO:-0400
TZNAME:EDT
DTSTART:20240310T070000
END:DAYLIGHT
BEGIN:STANDARD
TZOFFSETFROM:-0400
TZOFFSETTO:-0500
TZNAME:EST
DTSTART:20241103T060000
END:STANDARD
BEGIN:DAYLIGHT
TZOFFSETFROM:-0500
TZOFFSETTO:-0400
TZNAME:EDT
DTSTART:20250309T070000
END:DAYLIGHT
BEGIN:STANDARD
TZOFFSETFROM:-0400
TZOFFSETTO:-0500
TZNAME:EST
DTSTART:20251102T060000
END:STANDARD
END:VTIMEZONE
BEGIN:VEVENT
DTSTART;TZID=America/New_York:20240923T120000
DTEND;TZID=America/New_York:20240923T130000
DTSTAMP:20260419T230955
CREATED:20240223T204520Z
LAST-MODIFIED:20240223T210527Z
UID:10000075-1727092800-1727096400@magazinetraining.com
SUMMARY:Sharpening the story: Working with writers to get to the heart of it all
DESCRIPTION:As an editor\, one of your main responsibilities is to work with writers to produce a story that is polished\, compelling\, and resonates with readers. You want the story with oomph. It can be a challenging process\, especially when writers have different styles\, approaches\, and levels of experience. But\, with the right mindset and approach\, it is possible to build strong\, productive relationships with writers that result in outstanding work. Discover tips and guidance for editors to work effectively with writers and produce stories that have real impact. \n\n\n\nIn this free online workshop\, Hillary Jackson\, managing editor of Caring magazine\, will discuss questions to consider as you begin the editing process\, situations you might encounter in your editing life\, how to work with writers to sharpen stories\, how to deliver feedback\, and more. \n\n\n\nRegister now \n\n\n\nDon’t miss it! Check the system requirements now. \n\n\n On-demand workshops: Did you miss a live workshop? Visit our resource center and watch it now!  \nContributing sponsor: \n \n\n\n\nPhoto by C D-X on Unsplash
URL:https://magazinetraining.com/event/sharpening-the-story-working-with-writers-to-get-to-the-heart-of-it-all/
CATEGORIES:Live workshops
ATTACH;FMTTYPE=image/png:https://magazinetraining.com/wp-content/uploads/2024/01/Webinar_sharpening-story.png
END:VEVENT
END:VCALENDAR