BEGIN:VCALENDAR
VERSION:2.0
PRODID:-//Magazine Training International - ECPv6.15.20//NONSGML v1.0//EN
CALSCALE:GREGORIAN
METHOD:PUBLISH
X-ORIGINAL-URL:https://magazinetraining.com
X-WR-CALDESC:Events for Magazine Training International
REFRESH-INTERVAL;VALUE=DURATION:PT1H
X-Robots-Tag:noindex
X-PUBLISHED-TTL:PT1H
BEGIN:VTIMEZONE
TZID:America/New_York
BEGIN:DAYLIGHT
TZOFFSETFROM:-0500
TZOFFSETTO:-0400
TZNAME:EDT
DTSTART:20250309T070000
END:DAYLIGHT
BEGIN:STANDARD
TZOFFSETFROM:-0400
TZOFFSETTO:-0500
TZNAME:EST
DTSTART:20251102T060000
END:STANDARD
BEGIN:DAYLIGHT
TZOFFSETFROM:-0500
TZOFFSETTO:-0400
TZNAME:EDT
DTSTART:20260308T070000
END:DAYLIGHT
BEGIN:STANDARD
TZOFFSETFROM:-0400
TZOFFSETTO:-0500
TZNAME:EST
DTSTART:20261101T060000
END:STANDARD
BEGIN:DAYLIGHT
TZOFFSETFROM:-0500
TZOFFSETTO:-0400
TZNAME:EDT
DTSTART:20270314T070000
END:DAYLIGHT
BEGIN:STANDARD
TZOFFSETFROM:-0400
TZOFFSETTO:-0500
TZNAME:EST
DTSTART:20271107T060000
END:STANDARD
END:VTIMEZONE
BEGIN:VEVENT
DTSTART;TZID=America/New_York:20260311T150000
DTEND;TZID=America/New_York:20260311T160000
DTSTAMP:20260421T223941
CREATED:20260102T212051Z
LAST-MODIFIED:20260102T221700Z
UID:10000092-1773241200-1773244800@magazinetraining.com
SUMMARY:Beyond SEO: The new era of AI optimization (GEO)
DESCRIPTION:The days of optimizing solely for Google are fading. Today\, readers are skipping search engines and asking tools like ChatGPT\, Claude\, and Gemini for answers. Instead of browsing pages of results\, they simply ask — and trust the response. Explore the emerging field of Generative Engine Optimization (GEO) and discover why magazines must move beyond keywords and begin thinking about “LLM relevance.” \n\n\n\nIn this free online workshop\, Thomas Umstattd Jr.\, founder of Author Media and the host of the Novel Marketing Podcast\, will discuss how to how to future-proof your marketing strategy so that when a reader asks an AI for a recommendation\, your magazine is the answer. \n\n\n\nRegister now \n\n\n\nDon’t miss it! Check the system requirements now. \n\n\n On-demand workshops: Did you miss a live workshop? Visit our resource center and watch it now!  \nContributing sponsor:
URL:https://magazinetraining.com/event/beyond-seo-the-new-era-of-ai-optimization-geo/
CATEGORIES:Live workshops
ATTACH;FMTTYPE=image/png:https://magazinetraining.com/wp-content/uploads/2026/01/Webinar_Beyond-SEO.png
END:VEVENT
END:VCALENDAR