BEGIN:VCALENDAR
VERSION:2.0
PRODID:-//Magazine Training International - ECPv6.15.20//NONSGML v1.0//EN
CALSCALE:GREGORIAN
METHOD:PUBLISH
X-ORIGINAL-URL:https://magazinetraining.com
X-WR-CALDESC:Events for Magazine Training International
REFRESH-INTERVAL;VALUE=DURATION:PT1H
X-Robots-Tag:noindex
X-PUBLISHED-TTL:PT1H
BEGIN:VTIMEZONE
TZID:America/Denver
BEGIN:DAYLIGHT
TZOFFSETFROM:-0700
TZOFFSETTO:-0600
TZNAME:MDT
DTSTART:20230312T090000
END:DAYLIGHT
BEGIN:STANDARD
TZOFFSETFROM:-0600
TZOFFSETTO:-0700
TZNAME:MST
DTSTART:20231105T080000
END:STANDARD
BEGIN:DAYLIGHT
TZOFFSETFROM:-0700
TZOFFSETTO:-0600
TZNAME:MDT
DTSTART:20240310T090000
END:DAYLIGHT
BEGIN:STANDARD
TZOFFSETFROM:-0600
TZOFFSETTO:-0700
TZNAME:MST
DTSTART:20241103T080000
END:STANDARD
BEGIN:DAYLIGHT
TZOFFSETFROM:-0700
TZOFFSETTO:-0600
TZNAME:MDT
DTSTART:20250309T090000
END:DAYLIGHT
BEGIN:STANDARD
TZOFFSETFROM:-0600
TZOFFSETTO:-0700
TZNAME:MST
DTSTART:20251102T080000
END:STANDARD
END:VTIMEZONE
BEGIN:VEVENT
DTSTART;TZID=America/Denver:20240406T000000
DTEND;TZID=America/Denver:20240517T235959
DTSTAMP:20260421T125158
CREATED:20230523T204348Z
LAST-MODIFIED:20240118T201352Z
UID:10000067-1712361600-1715990399@magazinetraining.com
SUMMARY:Introduction to Magazine Editing
DESCRIPTION:Determine how you can work with writers and craft articles that touch the lives of readers. During this six-week course\, Jeremy Weber\, director of CT Global\, and Esther Nyaga\, publishing manager of Publishing Institute of Africa\, will discuss the many facets of the job of magazine editor\, developing your magazine’s profile\, working with writers\, writing effective callouts\, titles\, and side bars\, and solving common manuscript problems. \n\n\n\nDigital technology has changed the face of magazine publishing\, but editing and presenting relevant content to your audience is still the cornerstone of an excellent magazine. Discover the time-tested principles of magazine editing and hear some of the secrets experienced editors use to work more efficiently and effectively. \n\n\n\nThis course is the second in an online series in which you will gain an overview of magazine publishing\, including a basic understanding of the elements of magazine business\, editing\, and design. The series will include an online course in each of these three main areas. You may choose to take one\, two\, or all three of the segments. \n\n\n\nThose who complete each course will receive a certificate of completion for that course\, but those who complete all three will receive a certificate of completion for the entire series. \n\n\n\nCourse topics include:\n\n\n\n\nThe magazine profile\n\n\n\nManuscript editing\n\n\n\nWriting leads and conclusions\n\n\n\nPresenting the material\n\n\n\nEditorial planning\n\n\n\nDeveloping writers\n\n\n\n\nRegister now \n\n\n\nScheduleSystem requirementsRegistration and feesSchedule \n\n\n\nSchedule\n\n\n\nThe schedule is flexible in order to meet the needs of each student. The only scheduled events are the weekly one-hour live sessions. If you are unable to attend live\, you may watch a recording\, which is available online anytime. The live sessions will be held on Saturdays at 2:00 pm EDT. \n\n\n\nCourse requirements\n\n\n\nBackground reading: Book excerpts and articlesLive session: Attend a one-hour online live session with the instructor. All sessions are recorded. The recordings are available 24/7 within a few hours of the live event.Forum discussion: Participate in the class forum by making comments and asking questions throughout the week.Homework assignment: Complete and return the homework assignment by Thursday each week.Time required to complete coursework: Approximately five hours each week. \n\n\n\nSystem requirements \n\n\n\nMTI website: Class instructions and forums are available via this website in the MTIOnline free learning center. You may signup for a free membership at any time.ClickMeeting: The online course live sessions are delivered via ClickMeeting. Each live session includes video and audio. You are not required to dial in by phone or download and install any software in order to attend the meeting. ClickMeeting provides the following system requirements in order to get the best experience from the workshop: \n\n\n\n\n\n\n\nRegistration and fees \n\n\n\nThere are two ways to participate. You may register for the full access to the course or you may choose to audit the course.  \n\n\n\n\nFull participants will have access to weekly live sessions\, reading material\, assignments\, personalized feedback\, opportunities for consulting\, and encouragement and interaction with other classmates in the forum. Upon completion of the course\, a certificate will be awarded.\n\n\n\nAuditors will only have access to the live sessions and reading material each week. Auditors will not receive a certificate of completion.\n\n\n\n\nCourse fee: $150Auditing fee: $75(Financial assistance may be available. Please contact MTI.)Payment options: Credit card via PayPal (If you would like to participate in the course\, but have no way of transferring funds over the Internet\, please contact MTI to discuss other options.)Registration: Please register online by March 22\, 2024. Accepted registrants will be notified and given further instructions.Class size: Up to 20 students \n\n\n\n\n\n\n\n \n\n\n\nContributing sponsor: \n\n\n\n \n\n\n\n\n\n\n\nPhoto by Iwaria Inc. on Unsplash
URL:https://magazinetraining.com/event/introduction-to-magazine-editing/
CATEGORIES:Online courses
ATTACH;FMTTYPE=image/png:https://magazinetraining.com/wp-content/uploads/2023/05/Online-Course_magazine-editing.png
END:VEVENT
END:VCALENDAR