BEGIN:VCALENDAR
VERSION:2.0
PRODID:-//Magazine Training International - ECPv6.15.20//NONSGML v1.0//EN
CALSCALE:GREGORIAN
METHOD:PUBLISH
X-ORIGINAL-URL:https://magazinetraining.com
X-WR-CALDESC:Events for Magazine Training International
REFRESH-INTERVAL;VALUE=DURATION:PT1H
X-Robots-Tag:noindex
X-PUBLISHED-TTL:PT1H
BEGIN:VTIMEZONE
TZID:America/New_York
BEGIN:DAYLIGHT
TZOFFSETFROM:-0500
TZOFFSETTO:-0400
TZNAME:EDT
DTSTART:20220313T070000
END:DAYLIGHT
BEGIN:STANDARD
TZOFFSETFROM:-0400
TZOFFSETTO:-0500
TZNAME:EST
DTSTART:20221106T060000
END:STANDARD
BEGIN:DAYLIGHT
TZOFFSETFROM:-0500
TZOFFSETTO:-0400
TZNAME:EDT
DTSTART:20230312T070000
END:DAYLIGHT
BEGIN:STANDARD
TZOFFSETFROM:-0400
TZOFFSETTO:-0500
TZNAME:EST
DTSTART:20231105T060000
END:STANDARD
BEGIN:DAYLIGHT
TZOFFSETFROM:-0500
TZOFFSETTO:-0400
TZNAME:EDT
DTSTART:20240310T070000
END:DAYLIGHT
BEGIN:STANDARD
TZOFFSETFROM:-0400
TZOFFSETTO:-0500
TZNAME:EST
DTSTART:20241103T060000
END:STANDARD
END:VTIMEZONE
BEGIN:VEVENT
DTSTART;TZID=America/New_York:20231103T150000
DTEND;TZID=America/New_York:20231103T160000
DTSTAMP:20260423T144936
CREATED:20230911T190853Z
LAST-MODIFIED:20230911T190856Z
UID:10000045-1699023600-1699027200@magazinetraining.com
SUMMARY:Selecting effective stock imagery
DESCRIPTION:Using stock images is a budget-friendly way to create visual interest in your magazine. Discover practical tips for where to source stock images\, how to create visual consistency\, and how to make images your own. You can create helpful guidelines for your communications team as they consider this aspect of your brand. \n\n\n\nIn this free online workshop\, Jeremy Cherry\, Journey Group’s senior digital designer\, will discuss how you can source stock imagery to effectively communicate your brand’s mission. \n\n\n\nRegister now \n\n\n\nDon’t miss it! Check the system requirements now. \n\n\n On-demand workshops: Did you miss a live workshop? Visit our resource center and watch it now!  \nContributing sponsor: \n \n\n\n\nPhoto by Fred Moon on Unsplash
URL:https://magazinetraining.com/event/selecting-effective-stock-imagery/
CATEGORIES:Live workshops
ATTACH;FMTTYPE=image/png:https://magazinetraining.com/wp-content/uploads/2023/09/Webinar_selecting-effective-stock-imagery.png
END:VEVENT
END:VCALENDAR