BEGIN:VCALENDAR
VERSION:2.0
PRODID:-//Magazine Training International - ECPv6.15.20//NONSGML v1.0//EN
CALSCALE:GREGORIAN
METHOD:PUBLISH
X-WR-CALNAME:Magazine Training International
X-ORIGINAL-URL:https://magazinetraining.com
X-WR-CALDESC:Events for Magazine Training International
REFRESH-INTERVAL;VALUE=DURATION:PT1H
X-Robots-Tag:noindex
X-PUBLISHED-TTL:PT1H
BEGIN:VTIMEZONE
TZID:America/Denver
BEGIN:DAYLIGHT
TZOFFSETFROM:-0700
TZOFFSETTO:-0600
TZNAME:MDT
DTSTART:20200308T090000
END:DAYLIGHT
BEGIN:STANDARD
TZOFFSETFROM:-0600
TZOFFSETTO:-0700
TZNAME:MST
DTSTART:20201101T080000
END:STANDARD
BEGIN:DAYLIGHT
TZOFFSETFROM:-0700
TZOFFSETTO:-0600
TZNAME:MDT
DTSTART:20210314T090000
END:DAYLIGHT
BEGIN:STANDARD
TZOFFSETFROM:-0600
TZOFFSETTO:-0700
TZNAME:MST
DTSTART:20211107T080000
END:STANDARD
BEGIN:DAYLIGHT
TZOFFSETFROM:-0700
TZOFFSETTO:-0600
TZNAME:MDT
DTSTART:20220313T090000
END:DAYLIGHT
BEGIN:STANDARD
TZOFFSETFROM:-0600
TZOFFSETTO:-0700
TZNAME:MST
DTSTART:20221106T080000
END:STANDARD
END:VTIMEZONE
BEGIN:VTIMEZONE
TZID:America/New_York
BEGIN:DAYLIGHT
TZOFFSETFROM:-0500
TZOFFSETTO:-0400
TZNAME:EDT
DTSTART:20200308T070000
END:DAYLIGHT
BEGIN:STANDARD
TZOFFSETFROM:-0400
TZOFFSETTO:-0500
TZNAME:EST
DTSTART:20201101T060000
END:STANDARD
BEGIN:DAYLIGHT
TZOFFSETFROM:-0500
TZOFFSETTO:-0400
TZNAME:EDT
DTSTART:20210314T070000
END:DAYLIGHT
BEGIN:STANDARD
TZOFFSETFROM:-0400
TZOFFSETTO:-0500
TZNAME:EST
DTSTART:20211107T060000
END:STANDARD
BEGIN:DAYLIGHT
TZOFFSETFROM:-0500
TZOFFSETTO:-0400
TZNAME:EDT
DTSTART:20220313T070000
END:DAYLIGHT
BEGIN:STANDARD
TZOFFSETFROM:-0400
TZOFFSETTO:-0500
TZNAME:EST
DTSTART:20221106T060000
END:STANDARD
END:VTIMEZONE
BEGIN:VEVENT
DTSTART;TZID=America/Denver:20211111T080000
DTEND;TZID=America/Denver:20211111T090000
DTSTAMP:20260420T145239
CREATED:20210930T195555Z
LAST-MODIFIED:20211115T215931Z
UID:10000051-1636617600-1636621200@magazinetraining.com
SUMMARY:From Adobe to Affinity: Benefits of transitioning to a new design software
DESCRIPTION:Have you ever considered changing the design software you use for your publication? It can be intimidating. Discover the pros and cons of switching from Adobe Creative Suite to Affinity\, and how making the change could benefit your magazine. \nIn this free online workshop\, James Njoroge\, a designer and caricature artist based in Nairobi\, Kenya\, will walk you through some demonstrations and a comparison of Adobe and Affinity. \n Register now \nDon’t miss it! Check the system requirements now.  On-demand workshops: Did you miss a live workshop? Visit our resource center and watch it now!  \nContributing sponsor: \n  \n  \nPhoto by Timothy Exodus on Unsplash
URL:https://magazinetraining.com/event/from-adobe-to-affinity-benefits-of-transitioning-to-a-new-design-software/
CATEGORIES:Live workshops
ATTACH;FMTTYPE=image/png:https://magazinetraining.com/wp-content/uploads/2021/09/webinar_adobe-affinity.png
END:VEVENT
BEGIN:VEVENT
DTSTART;TZID=America/Denver:20210915T070000
DTEND;TZID=America/Denver:20210915T080000
DTSTAMP:20260420T145239
CREATED:20210521T201120Z
LAST-MODIFIED:20210915T193717Z
UID:10000037-1631689200-1631692800@magazinetraining.com
SUMMARY:Multilingual publishing: A case study in connecting the body of Christ across tongue\, tribe\, and nation
DESCRIPTION:In response to the pandemic\, Christianity Today started translating its best COVID-19 articles to help more Christian wisdom reach more affected churches. A year later\, CT has produced 500+ translations across 10+ languages\, reaching 2 million readers. Get a behind-the-scenes look at how CT built a successful multilingual publishing initiative from scratch\, harnessing AI technology and its readers to not only reach new markets but strengthen the loyalty of its existing bilingual readers. \nIn this free online workshop\, Jeremy Weber\, director of CT Global at Christianity Today\, and Dr. Jost Zetzsche\, a translation industry and translation technology consultant\, will candidly discuss the lessons learned by CT. Come with your own examples and receive feedback. \nRegister now \nDon’t miss it! Check the system requirements now. \n \nOn-demand workshops: \nDid you miss a live workshop? Visit our resource center and watch it now! \n \nContributing sponsor: \n \n\n  \nPhoto by Giulia Bertelli on Unsplash
URL:https://magazinetraining.com/event/multilingual-publishing-a-case-study-in-connecting-the-body-of-christ-across-tongue-tribe-and-nation/
CATEGORIES:Live workshops
ATTACH;FMTTYPE=image/png:https://magazinetraining.com/wp-content/uploads/2021/05/Webinar_multilingual-publishing.png
END:VEVENT
BEGIN:VEVENT
DTSTART;TZID=America/Denver:20210722T080000
DTEND;TZID=America/Denver:20210722T090000
DTSTAMP:20260420T145239
CREATED:20210630T203525Z
LAST-MODIFIED:20230928T193132Z
UID:10000036-1626940800-1626944400@magazinetraining.com
SUMMARY:Practical tips for digital publishing
DESCRIPTION:What should you consider when designing a digital publication? Discover the process\, helpful tools\, and best practices when designing for screens. You will gain inspiration from the trainers’ favorite digital publication designs and see where they hope the web is headed. \nIn this free online workshop\, Journey Group’s Zack Bryant\, principal and studio director\, and Jeremy Cherry\, senior digital designer\, will discuss lessons learned while serving magazines large and small. \nRegister now \nDon’t miss it! Check the system requirements now. \n \nOn-demand workshops: \nDid you miss a live workshop? Visit our resource center and watch it now! \n \nContributing sponsor: \n \n \nPhoto by Minh Hằng on Unsplash
URL:https://magazinetraining.com/event/practical-tips-for-digital-publishing/
CATEGORIES:Live workshops
ATTACH;FMTTYPE=image/png:https://magazinetraining.com/wp-content/uploads/2021/06/Webinar_tips-digital-publishing.png
END:VEVENT
BEGIN:VEVENT
DTSTART;TZID=America/New_York:20210513T100000
DTEND;TZID=America/New_York:20210513T110000
DTSTAMP:20260420T145239
CREATED:20210325T031858Z
LAST-MODIFIED:20210630T203211Z
UID:10000042-1620900000-1620903600@magazinetraining.com
SUMMARY:Practice discernment in your Christian publishing business
DESCRIPTION:Is your magazine a business or a ministry? It’s both! Discover how to find the balance of focusing deeply on the “publishing business” part but not neglecting the “Christian” part. God invited you to accomplish his plans and participate in his work of nourishing his people and building up his church\, and not vice versa. You can successfully run a Christian publishing business by using discernment to know when to lead and when to be lead; how to understand your calling and measure your successes or failures; and where to get wisdom in starting\, sustaining\, or expanding your publishing venture. In this free online workshop\, Alex Yefetov\, publisher for NARD Publishing Group\, will discuss how to hear God’s voice amidst routine tasks\, withstand the present-day challenges of publishing\, run your business with God’s guidance\, and avoid burnout but still remain open to new opportunities. Alex will share some lessons learned in his 20 years of involvement in Christian media projects. \nDon’t miss it! Check the system requirements now. \nOn-demand workshops\nDid you miss a live workshop? Visit our resource center and watch it now! \nContributing sponsor\n \nPhoto by Nathan Dumlao on Unsplash
URL:https://magazinetraining.com/event/practice-discernment-in-your-christian-publishing-business/
CATEGORIES:Live workshops
ATTACH;FMTTYPE=image/jpeg:https://magazinetraining.com/wp-content/uploads/2021/04/webinar-discernment-scaled-1.jpg
END:VEVENT
END:VCALENDAR