BEGIN:VCALENDAR
VERSION:2.0
PRODID:-//Magazine Training International - ECPv6.15.20//NONSGML v1.0//EN
CALSCALE:GREGORIAN
METHOD:PUBLISH
X-WR-CALNAME:Magazine Training International
X-ORIGINAL-URL:https://magazinetraining.com
X-WR-CALDESC:Events for Magazine Training International
REFRESH-INTERVAL;VALUE=DURATION:PT1H
X-Robots-Tag:noindex
X-PUBLISHED-TTL:PT1H
BEGIN:VTIMEZONE
TZID:America/New_York
BEGIN:DAYLIGHT
TZOFFSETFROM:-0500
TZOFFSETTO:-0400
TZNAME:EDT
DTSTART:20250309T070000
END:DAYLIGHT
BEGIN:STANDARD
TZOFFSETFROM:-0400
TZOFFSETTO:-0500
TZNAME:EST
DTSTART:20251102T060000
END:STANDARD
BEGIN:DAYLIGHT
TZOFFSETFROM:-0500
TZOFFSETTO:-0400
TZNAME:EDT
DTSTART:20260308T070000
END:DAYLIGHT
BEGIN:STANDARD
TZOFFSETFROM:-0400
TZOFFSETTO:-0500
TZNAME:EST
DTSTART:20261101T060000
END:STANDARD
BEGIN:DAYLIGHT
TZOFFSETFROM:-0500
TZOFFSETTO:-0400
TZNAME:EDT
DTSTART:20270314T070000
END:DAYLIGHT
BEGIN:STANDARD
TZOFFSETFROM:-0400
TZOFFSETTO:-0500
TZNAME:EST
DTSTART:20271107T060000
END:STANDARD
END:VTIMEZONE
BEGIN:VEVENT
DTSTART;TZID=America/New_York:20260122T110000
DTEND;TZID=America/New_York:20260122T120000
DTSTAMP:20260420T132826
CREATED:20251117T223330Z
LAST-MODIFIED:20251117T223608Z
UID:10000091-1769079600-1769083200@magazinetraining.com
SUMMARY:Smartphone video production: Using what’s in your hand
DESCRIPTION:We all remember the story of Moses\, when God told him to look at the thing in his hand. Today\, the thing in our hands is (too) often a smartphone. But the good news is that the device in your hand is incredibly capable of producing powerful video content. The days of big video cameras and expensive editing suites are in the past. Today’s mobile devices can be used to produce powerful video content so you can reach new audiences with compelling messages. Discover how with an Android or iPhone\, low-budget or no-budget\, you can get started in the exciting new world of video production…starting with the thing in your hand. \n\n\n\nIn this free online workshop\, Dr. Samuel Ebersole\, director of training for Global News Alliance\, will discuss how to harness the full potential of your smartphone to create impactful videos. From capturing strong visuals to crafting a message that resonates\, this live workshop empowers you to turn the technology in your hand into a powerful storytelling tool. \n\n\n\nRegister now \n\n\n\nDon’t miss it! Check the system requirements now. \n\n\n On-demand workshops: Did you miss a live workshop? Visit our resource center and watch it now!  \nContributing sponsor:
URL:https://magazinetraining.com/event/smartphone-video-production/
CATEGORIES:Live workshops
ATTACH;FMTTYPE=image/png:https://magazinetraining.com/wp-content/uploads/2025/11/Webinar_smartphone-video.png
END:VEVENT
END:VCALENDAR