BEGIN:VCALENDAR
VERSION:2.0
PRODID:-//Magazine Training International - ECPv6.15.20//NONSGML v1.0//EN
CALSCALE:GREGORIAN
METHOD:PUBLISH
X-WR-CALNAME:Magazine Training International
X-ORIGINAL-URL:https://magazinetraining.com
X-WR-CALDESC:Events for Magazine Training International
REFRESH-INTERVAL;VALUE=DURATION:PT1H
X-Robots-Tag:noindex
X-PUBLISHED-TTL:PT1H
BEGIN:VTIMEZONE
TZID:America/New_York
BEGIN:DAYLIGHT
TZOFFSETFROM:-0500
TZOFFSETTO:-0400
TZNAME:EDT
DTSTART:20240310T070000
END:DAYLIGHT
BEGIN:STANDARD
TZOFFSETFROM:-0400
TZOFFSETTO:-0500
TZNAME:EST
DTSTART:20241103T060000
END:STANDARD
BEGIN:DAYLIGHT
TZOFFSETFROM:-0500
TZOFFSETTO:-0400
TZNAME:EDT
DTSTART:20250309T070000
END:DAYLIGHT
BEGIN:STANDARD
TZOFFSETFROM:-0400
TZOFFSETTO:-0500
TZNAME:EST
DTSTART:20251102T060000
END:STANDARD
BEGIN:DAYLIGHT
TZOFFSETFROM:-0500
TZOFFSETTO:-0400
TZNAME:EDT
DTSTART:20260308T070000
END:DAYLIGHT
BEGIN:STANDARD
TZOFFSETFROM:-0400
TZOFFSETTO:-0500
TZNAME:EST
DTSTART:20261101T060000
END:STANDARD
END:VTIMEZONE
BEGIN:VEVENT
DTSTART;TZID=America/New_York:20251106T140000
DTEND;TZID=America/New_York:20251106T150000
DTSTAMP:20260420T164051
CREATED:20250820T160634Z
LAST-MODIFIED:20250820T160638Z
UID:10000087-1762437600-1762441200@magazinetraining.com
SUMMARY:The cost of art: How to produce beautiful imagery on a budget
DESCRIPTION:Don’t compromise on quality of art because of the cost. Learn to make the most out of your budget when creating imagery with tips for how to approach ideas and capitalize on your design skills\, as well as tricks for using free and low-cost resources. Discover what a reasonable budget could look like and how advocate for one—so you never have to compromise on quality. \n\n\n\nIn this free online workshop\, Sarah Gordon\, former art director of Christianity Today magazine\, will discuss how to stretch your design budget\, approach ideas creatively\, maximize your existing skills\, and take advantage of free and low-cost resources. \n\n\n\nRegister now \n\n\n\nDon’t miss it! Check the system requirements now. \n\n\n On-demand workshops: Did you miss a live workshop? Visit our resource center and watch it now!  \nContributing sponsor:
URL:https://magazinetraining.com/event/the-cost-of-art-how-to-produce-beautiful-imagery-on-a-budget/
CATEGORIES:Live workshops
ATTACH;FMTTYPE=image/png:https://magazinetraining.com/wp-content/uploads/2025/08/Webinar_the-cost-of-art.png
END:VEVENT
END:VCALENDAR