BEGIN:VCALENDAR
VERSION:2.0
PRODID:-//Magazine Training International - ECPv6.15.20//NONSGML v1.0//EN
CALSCALE:GREGORIAN
METHOD:PUBLISH
X-WR-CALNAME:Magazine Training International
X-ORIGINAL-URL:https://magazinetraining.com
X-WR-CALDESC:Events for Magazine Training International
REFRESH-INTERVAL;VALUE=DURATION:PT1H
X-Robots-Tag:noindex
X-PUBLISHED-TTL:PT1H
BEGIN:VTIMEZONE
TZID:America/New_York
BEGIN:DAYLIGHT
TZOFFSETFROM:-0500
TZOFFSETTO:-0400
TZNAME:EDT
DTSTART:20240310T070000
END:DAYLIGHT
BEGIN:STANDARD
TZOFFSETFROM:-0400
TZOFFSETTO:-0500
TZNAME:EST
DTSTART:20241103T060000
END:STANDARD
BEGIN:DAYLIGHT
TZOFFSETFROM:-0500
TZOFFSETTO:-0400
TZNAME:EDT
DTSTART:20250309T070000
END:DAYLIGHT
BEGIN:STANDARD
TZOFFSETFROM:-0400
TZOFFSETTO:-0500
TZNAME:EST
DTSTART:20251102T060000
END:STANDARD
BEGIN:DAYLIGHT
TZOFFSETFROM:-0500
TZOFFSETTO:-0400
TZNAME:EDT
DTSTART:20260308T070000
END:DAYLIGHT
BEGIN:STANDARD
TZOFFSETFROM:-0400
TZOFFSETTO:-0500
TZNAME:EST
DTSTART:20261101T060000
END:STANDARD
END:VTIMEZONE
BEGIN:VEVENT
DTSTART;TZID=America/New_York:20250508T110000
DTEND;TZID=America/New_York:20250508T120000
DTSTAMP:20260421T015355
CREATED:20250204T190541Z
LAST-MODIFIED:20250204T191336Z
UID:10000083-1746702000-1746705600@magazinetraining.com
SUMMARY:Five crisis management principles every organization should consider
DESCRIPTION:Crises can strike any organization at any time\, making preparation essential to protecting people\, operations\, and reputations. Discover five key crisis management principles that you should consider to build resilience and ensure a swift\, effective response when challenges arise. A well-structured crisis strategy not only protects people and operations but also strengthens trust and stability during uncertain times. \n\n\n\nIn this free online workshop\, John Lites\, senior director of incident response and global security at Compassion International and COO and director of training at Crisis Consulting International\, will discuss practical steps to develop a robust response framework\, including effective staff training and real-world crisis preparedness techniques. Whether you’re leading a business\, nonprofit\, or ministry\, this session will equip you with the tools to anticipate potential threats\, minimize disruptions\, and safeguard your organization’s future. \n\n\n\nRegister now \n\n\n\nDon’t miss it! Check the system requirements now. \n\n\n On-demand workshops: Did you miss a live workshop? Visit our resource center and watch it now!  \nContributing sponsor:
URL:https://magazinetraining.com/event/five-crisis-management-principles/
CATEGORIES:Live workshops
ATTACH;FMTTYPE=image/png:https://magazinetraining.com/wp-content/uploads/2025/02/Webinar_crisis-management.png
END:VEVENT
END:VCALENDAR