BEGIN:VCALENDAR
VERSION:2.0
PRODID:-//Magazine Training International - ECPv6.15.20//NONSGML v1.0//EN
CALSCALE:GREGORIAN
METHOD:PUBLISH
X-ORIGINAL-URL:https://magazinetraining.com
X-WR-CALDESC:Events for Magazine Training International
REFRESH-INTERVAL;VALUE=DURATION:PT1H
X-Robots-Tag:noindex
X-PUBLISHED-TTL:PT1H
BEGIN:VTIMEZONE
TZID:America/Denver
BEGIN:DAYLIGHT
TZOFFSETFROM:-0700
TZOFFSETTO:-0600
TZNAME:MDT
DTSTART:20210314T090000
END:DAYLIGHT
BEGIN:STANDARD
TZOFFSETFROM:-0600
TZOFFSETTO:-0700
TZNAME:MST
DTSTART:20211107T080000
END:STANDARD
BEGIN:DAYLIGHT
TZOFFSETFROM:-0700
TZOFFSETTO:-0600
TZNAME:MDT
DTSTART:20220313T090000
END:DAYLIGHT
BEGIN:STANDARD
TZOFFSETFROM:-0600
TZOFFSETTO:-0700
TZNAME:MST
DTSTART:20221106T080000
END:STANDARD
BEGIN:DAYLIGHT
TZOFFSETFROM:-0700
TZOFFSETTO:-0600
TZNAME:MDT
DTSTART:20230312T090000
END:DAYLIGHT
BEGIN:STANDARD
TZOFFSETFROM:-0600
TZOFFSETTO:-0700
TZNAME:MST
DTSTART:20231105T080000
END:STANDARD
END:VTIMEZONE
BEGIN:VEVENT
DTSTART;TZID=America/Denver:20220525T070000
DTEND;TZID=America/Denver:20220525T080000
DTSTAMP:20260425T103857
CREATED:20220214T210830Z
LAST-MODIFIED:20220428T193503Z
UID:10000046-1653462000-1653465600@magazinetraining.com
SUMMARY:Build a strong brand: Establish your brand identity in print and digital
DESCRIPTION:What sets your magazine apart from the crowd? Discover the concept of brand identity\, and how to leverage the unique personality of your brand to improve engagement with readers. Consider real-world examples from Christianity Today and other well-known publishers. \n\n\n\nIn this free online workshop\, Jacob Walsh\, vice president and publisher of Christianity Today magazine\, will provide practical resources for evaluating and improving your brand. Register nowDon’t miss it! Check the system requirements now. \n\n\n On-demand workshops: Did you miss a live workshop? Visit our resource center and watch it now!  \nContributing sponsor: \n \n\n\n\nPhoto by Patrik Michalicka on Unsplash
URL:https://magazinetraining.com/event/build-a-strong-brand-establish-your-brand-identity-in-print-and-digital/
CATEGORIES:Featured,Live workshops
ATTACH;FMTTYPE=image/png:https://magazinetraining.com/wp-content/uploads/2022/02/Webinar_brand-identity.png
END:VEVENT
END:VCALENDAR