BEGIN:VCALENDAR
VERSION:2.0
PRODID:-//Magazine Training International - ECPv6.15.20//NONSGML v1.0//EN
CALSCALE:GREGORIAN
METHOD:PUBLISH
X-WR-CALNAME:Magazine Training International
X-ORIGINAL-URL:https://magazinetraining.com
X-WR-CALDESC:Events for Magazine Training International
REFRESH-INTERVAL;VALUE=DURATION:PT1H
X-Robots-Tag:noindex
X-PUBLISHED-TTL:PT1H
BEGIN:VTIMEZONE
TZID:America/Denver
BEGIN:DAYLIGHT
TZOFFSETFROM:-0700
TZOFFSETTO:-0600
TZNAME:MDT
DTSTART:20200308T090000
END:DAYLIGHT
BEGIN:STANDARD
TZOFFSETFROM:-0600
TZOFFSETTO:-0700
TZNAME:MST
DTSTART:20201101T080000
END:STANDARD
BEGIN:DAYLIGHT
TZOFFSETFROM:-0700
TZOFFSETTO:-0600
TZNAME:MDT
DTSTART:20210314T090000
END:DAYLIGHT
BEGIN:STANDARD
TZOFFSETFROM:-0600
TZOFFSETTO:-0700
TZNAME:MST
DTSTART:20211107T080000
END:STANDARD
BEGIN:DAYLIGHT
TZOFFSETFROM:-0700
TZOFFSETTO:-0600
TZNAME:MDT
DTSTART:20220313T090000
END:DAYLIGHT
BEGIN:STANDARD
TZOFFSETFROM:-0600
TZOFFSETTO:-0700
TZNAME:MST
DTSTART:20221106T080000
END:STANDARD
END:VTIMEZONE
BEGIN:VEVENT
DTSTART;VALUE=DATE:20211019
DTEND;VALUE=DATE:20211022
DTSTAMP:20260424T025502
CREATED:20210920T204537Z
LAST-MODIFIED:20210922T195550Z
UID:10000052-1634601600-1634860799@magazinetraining.com
SUMMARY:Digital Media Con 2.0
DESCRIPTION:DigitalMediaCon 2.0 is a three-day online conference focusing exclusively on digital media and marketing for Christian communicators. \nThe event is produced by the Evangelical Press Association (EPA) with the National Association of Evangelicals (NAE) as the co-presenting organization. Magazine Training International is one of seven participating partners. \nA virtual conference platform will provide a single login space where registered attendees can conveniently access live and recorded sessions\, set an agenda\, interact through networking with community discussion boards and meetups\, and browse the virtual exhibit floor. The platform will provide access to all sessions on-demand until 31 December. \nRegister\n**The non-member registration rate is $149. However\, you may register as a member of MTI for $99 per person. Or\, your organization may register up to 10 people for the cost of four. \nParticipating associations:\n \nCorporate sponsors:\n    
URL:https://magazinetraining.com/event/digital-media-con-2-0/
CATEGORIES:Conferences
ATTACH;FMTTYPE=image/jpeg:https://magazinetraining.com/wp-content/uploads/2021/09/Digital-Media-Con-square.jpg
END:VEVENT
END:VCALENDAR